BEGIN:VCALENDAR
VERSION:2.0
PRODID:-//Bund der Selbständigen - ECPv6.15.20//NONSGML v1.0//EN
CALSCALE:GREGORIAN
METHOD:PUBLISH
X-WR-CALNAME:Bund der Selbständigen
X-ORIGINAL-URL:https://bds-rlp.de
X-WR-CALDESC:Veranstaltungen für Bund der Selbständigen
REFRESH-INTERVAL;VALUE=DURATION:PT1H
X-Robots-Tag:noindex
X-PUBLISHED-TTL:PT1H
BEGIN:VTIMEZONE
TZID:UTC
BEGIN:STANDARD
TZOFFSETFROM:+0000
TZOFFSETTO:+0000
TZNAME:UTC
DTSTART:20210101T000000
END:STANDARD
END:VTIMEZONE
BEGIN:VEVENT
DTSTART;TZID=UTC:20220706T190000
DTEND;TZID=UTC:20220706T220000
DTSTAMP:20260424T150041
CREATED:20220621T120151Z
LAST-MODIFIED:20220705T123339Z
UID:4441-1657134000-1657144800@bds-rlp.de
SUMMARY:ABSAGE: BDS After-Work-Party in Römerberg-Mechtersheim
DESCRIPTION:Aufgrund einer Corona-Erkrankung des Vermieters der Location müssen wir leider schweren Herzens die BDS After-Work-Veranstaltung am 6. Juli in Römerberg-Mechtersheim absagen und verschieben. Sobald wir einen neuen Termin haben\, werden wir Sie davon unterrichten. \nVielen Dank für Ihr Verständnis.
URL:https://bds-rlp.de/termin/bds-after-work-party-in-roemerberg-mechtersheim/
LOCATION:Eventscheune\, Rheinfeldstr. 67\, Römerberg-Mechtersheim\, 67354
CATEGORIES:After-Work-Party
ATTACH;FMTTYPE=image/jpeg:https://bds-rlp.de/wp-content/uploads/2022/06/alcohol-g17b92d951_1280.jpg
ORGANIZER;CN="Bund der Selbst%C3%A4ndigen Rheinland-Pfalz & Saarland e.V.":MAILTO:info@bds-rlp.de
END:VEVENT
END:VCALENDAR