BEGIN:VCALENDAR
VERSION:2.0
PRODID:-//Bund der Selbständigen - ECPv6.15.20//NONSGML v1.0//EN
CALSCALE:GREGORIAN
METHOD:PUBLISH
X-WR-CALNAME:Bund der Selbständigen
X-ORIGINAL-URL:https://bds-rlp.de
X-WR-CALDESC:Veranstaltungen für Bund der Selbständigen
REFRESH-INTERVAL;VALUE=DURATION:PT1H
X-Robots-Tag:noindex
X-PUBLISHED-TTL:PT1H
BEGIN:VTIMEZONE
TZID:Europe/Berlin
BEGIN:DAYLIGHT
TZOFFSETFROM:+0100
TZOFFSETTO:+0200
TZNAME:CEST
DTSTART:20190331T010000
END:DAYLIGHT
BEGIN:STANDARD
TZOFFSETFROM:+0200
TZOFFSETTO:+0100
TZNAME:CET
DTSTART:20191027T010000
END:STANDARD
BEGIN:DAYLIGHT
TZOFFSETFROM:+0100
TZOFFSETTO:+0200
TZNAME:CEST
DTSTART:20200329T010000
END:DAYLIGHT
BEGIN:STANDARD
TZOFFSETFROM:+0200
TZOFFSETTO:+0100
TZNAME:CET
DTSTART:20201025T010000
END:STANDARD
BEGIN:DAYLIGHT
TZOFFSETFROM:+0100
TZOFFSETTO:+0200
TZNAME:CEST
DTSTART:20210328T010000
END:DAYLIGHT
BEGIN:STANDARD
TZOFFSETFROM:+0200
TZOFFSETTO:+0100
TZNAME:CET
DTSTART:20211031T010000
END:STANDARD
END:VTIMEZONE
BEGIN:VEVENT
DTSTART;TZID=Europe/Berlin:20201008T090000
DTEND;TZID=Europe/Berlin:20201008T110000
DTSTAMP:20260426T010206
CREATED:20200924T104402Z
LAST-MODIFIED:20200924T115713Z
UID:2282-1602147600-1602154800@bds-rlp.de
SUMMARY:BDS-Unternehmerfrühstück in Kaiserslautern
DESCRIPTION:Wir freuen uns sehr am 8. Oktober 2020 wieder ein Unternehmerfrühstück des Bundes der Selbständigen in Kaiserslautern ankündigen zu dürfen. Um 9 Uhr beginnen wir das Frühstück im Hotel-Restaurant Barbarossahof. Gastgeberin ist Manuela Baldauf\, BDS Repräsentantin für den Donnersbergkreis und die Westpfalz und Inhaberin des Büro für Deutsche Vermögensberatung in Morschheim. \nAlle Teilnehmer haben die Möglichkeit ihr Unternehmen vorzustellen. Auch Nichtmitglieder sind herzlich willkommen. \nAls eingetragener Verein finanziert sich der Bund der Selbständigen Rheinland-Pfalz & Saarland e.V. aus den Beiträgen seiner Mitglieder. Gerne bieten wir Nichtmitgliedern die Möglichkeit drei Veranstaltungen des BDS zu besuchen\, um sich ein Bild von den Vorteilen einer Mitgliedschaft zu machen. Mit Ihrem Mitgliedsbeitrag von lediglich 10 Euro pro Monat investieren Sie in Ihr Netzwerk und stärken den BDS als Sprachrohr der Selbständigen. Sollten Sie sich nach drei Veranstaltungsbesuchen nicht für eine Mitgliedschaft entscheiden können\, ist im Anschluss nur noch die Teilnahme an bestimmten\, zahlungspflichtigen Veranstaltungen möglich. \nPacken Sie die Visitenkarten ein und kommen Sie am 8. Oktober 2020 nach Kaiserslautern. Eine verbindliche Anmeldung ist notwendig\, um unsere Planungen zu erleichtern. Corona-bedingt müssen wir die Teilnehmerzahl begrenzen. Anmelden können Sie sich per E-Mail bei der regionalen BDS Repräsentantin unter Manuela.Baldauf@dvag.de und unter info@bds-rlp.de.
URL:https://bds-rlp.de/termin/bds-unternehmerfruehstueck-in-kaiserslautern-2/
LOCATION:Hotel-Restaurant Barbarossahof\, Eselsfürth 10\, 67657 Kaiserslautern
CATEGORIES:Networking,Unternehmerfrühstück
ATTACH;FMTTYPE=image/jpeg:https://bds-rlp.de/wp-content/uploads/2020/09/coffee-2670190_1280.jpg
ORGANIZER;CN="Bund der Selbst%C3%A4ndigen Rheinland-Pfalz & Saarland e.V.":MAILTO:info@bds-rlp.de
END:VEVENT
BEGIN:VEVENT
DTSTART;TZID=Europe/Berlin:20201022T090000
DTEND;TZID=Europe/Berlin:20201022T110000
DTSTAMP:20260426T010206
CREATED:20200924T110109Z
LAST-MODIFIED:20200924T115635Z
UID:2288-1603357200-1603364400@bds-rlp.de
SUMMARY:BDS-Unternehmerfrühstück in Kirchheimbolanden
DESCRIPTION:Wir freuen uns sehr am 22. Oktober 2020 wieder ein Unternehmerfrühstück des Bundes der Selbständigen in Kirchheimbolanden ankündigen zu dürfen. Um 9 Uhr beginnen wir das Frühstück im Parkhotel Schillerhain. Gastgeberin ist Manuela Baldauf\, BDS Repräsentantin für den Donnersbergkreis und die Westpfalz und Inhaberin des Büro für Deutsche Vermögensberatung in Morschheim. \nAlle Teilnehmer haben die Möglichkeit ihr Unternehmen vorzustellen. Auch Nichtmitglieder sind herzlich willkommen. \nAls eingetragener Verein finanziert sich der Bund der Selbständigen Rheinland-Pfalz & Saarland e.V. aus den Beiträgen seiner Mitglieder. Gerne bieten wir Nichtmitgliedern die Möglichkeit drei Veranstaltungen des BDS zu besuchen\, um sich ein Bild von den Vorteilen einer Mitgliedschaft zu machen. Mit Ihrem Mitgliedsbeitrag von lediglich 10 Euro pro Monat investieren Sie in Ihr Netzwerk und stärken den BDS als Sprachrohr der Selbständigen. Sollten Sie sich nach drei Veranstaltungsbesuchen nicht für eine Mitgliedschaft entscheiden können\, ist im Anschluss nur noch die Teilnahme an bestimmten\, zahlungspflichtigen Veranstaltungen möglich. \nPacken Sie die Visitenkarten ein und kommen Sie am 22. Oktober 2020 nach Kirchheimbolanden. Eine verbindliche Anmeldung ist notwendig\, um unsere Planungen zu erleichtern. Corona-bedingt müssen wir die Teilnehmerzahl begrenzen. Anmelden können Sie sich per E-Mail bei der regionalen BDS Repräsentantin unter Manuela.Baldauf@dvag.de und unter info@bds-rlp.de.
URL:https://bds-rlp.de/termin/bds-unternehmerfruehstueck-in-kirchheimbolanden-3/
LOCATION:Parkhotel Schillerhain\, Schillerhain 1\, 67292 Kirchheimbolanden
CATEGORIES:Networking,Unternehmerfrühstück
ATTACH;FMTTYPE=image/jpeg:https://bds-rlp.de/wp-content/uploads/2020/09/coffee-2594748_1280.jpg
ORGANIZER;CN="Bund der Selbst%C3%A4ndigen Rheinland-Pfalz & Saarland e.V.":MAILTO:info@bds-rlp.de
END:VEVENT
END:VCALENDAR