BEGIN:VCALENDAR
VERSION:2.0
PRODID:-//Bund der Selbständigen - ECPv6.15.20//NONSGML v1.0//EN
CALSCALE:GREGORIAN
METHOD:PUBLISH
X-WR-CALNAME:Bund der Selbständigen
X-ORIGINAL-URL:https://bds-rlp.de
X-WR-CALDESC:Veranstaltungen für Bund der Selbständigen
REFRESH-INTERVAL;VALUE=DURATION:PT1H
X-Robots-Tag:noindex
X-PUBLISHED-TTL:PT1H
BEGIN:VTIMEZONE
TZID:Europe/Berlin
BEGIN:DAYLIGHT
TZOFFSETFROM:+0100
TZOFFSETTO:+0200
TZNAME:CEST
DTSTART:20180325T010000
END:DAYLIGHT
BEGIN:STANDARD
TZOFFSETFROM:+0200
TZOFFSETTO:+0100
TZNAME:CET
DTSTART:20181028T010000
END:STANDARD
BEGIN:DAYLIGHT
TZOFFSETFROM:+0100
TZOFFSETTO:+0200
TZNAME:CEST
DTSTART:20190331T010000
END:DAYLIGHT
BEGIN:STANDARD
TZOFFSETFROM:+0200
TZOFFSETTO:+0100
TZNAME:CET
DTSTART:20191027T010000
END:STANDARD
BEGIN:DAYLIGHT
TZOFFSETFROM:+0100
TZOFFSETTO:+0200
TZNAME:CEST
DTSTART:20200329T010000
END:DAYLIGHT
BEGIN:STANDARD
TZOFFSETFROM:+0200
TZOFFSETTO:+0100
TZNAME:CET
DTSTART:20201025T010000
END:STANDARD
END:VTIMEZONE
BEGIN:VEVENT
DTSTART;TZID=Europe/Berlin:20191023T190000
DTEND;TZID=Europe/Berlin:20191023T210000
DTSTAMP:20260423T004236
CREATED:20190918T122336Z
LAST-MODIFIED:20190918T122336Z
UID:1203-1571857200-1571864400@bds-rlp.de
SUMMARY:Geflüchtete Menschen als Arbeitnehmer – welche Chancen haben Betriebe?
DESCRIPTION:Mit dieser Veranstaltung möchten wir Sie darüber informieren\, wie Sie geflüchtete Menschen als Arbeitnehmer\, als Auszubildende oder für ein Praktikum mit Arbeitsplatzperspektive gewinnen können. Welche rechtlichen Rahmenbedingungen dabei gelten und welche Fördermittel es gibt\, erklärt Ihnen Willkommenslotse Tim Wiedemann in seinem Vortrag. Der Vortrag findet in Kooperation mit dem Familienbüro in Böhl-Iggelheim statt. \nIm anschließenden Bewerberforum haben Sie Gelegenheit\, Ihren Betrieb und freie Stellen vorzustellen und potentielle Mitarbeiter und Mitarbeiterinnen kennenzulernen. \nEs besteht die Möglichkeit\, Gespräche mit Bewerberinnen und Bewerbern in Begleitung von Herrn Wiedemann zu führen. \nBitte melden Sie die Teilnahme Ihres Betriebes am Bewerberforum bis 01. Oktober an. Anmeldungen nimmt die BDS Geschäftsstelle unter info@bds-rlp.de oder 06321/9375141 entgegen. \nAlle Informationen finden Sie auch auf unserem Flyer.
URL:https://bds-rlp.de/termin/gefluechtete-menschen-als-arbeitnehmer-welche-chancen-haben-betriebe/
LOCATION:Wahagnieshalle\, Am Schwarzweiher 1\, Böhl-Iggelheim\, 67459
CATEGORIES:Vortrag
ORGANIZER;CN="Bund der Selbst%C3%A4ndigen Rheinland-Pfalz & Saarland e.V.":MAILTO:info@bds-rlp.de
END:VEVENT
END:VCALENDAR