BEGIN:VCALENDAR
VERSION:2.0
PRODID:-//Bund der Selbständigen - ECPv6.15.20//NONSGML v1.0//EN
CALSCALE:GREGORIAN
METHOD:PUBLISH
X-WR-CALNAME:Bund der Selbständigen
X-ORIGINAL-URL:https://bds-rlp.de
X-WR-CALDESC:Veranstaltungen für Bund der Selbständigen
REFRESH-INTERVAL;VALUE=DURATION:PT1H
X-Robots-Tag:noindex
X-PUBLISHED-TTL:PT1H
BEGIN:VTIMEZONE
TZID:Europe/Berlin
BEGIN:DAYLIGHT
TZOFFSETFROM:+0100
TZOFFSETTO:+0200
TZNAME:CEST
DTSTART:20220327T010000
END:DAYLIGHT
BEGIN:STANDARD
TZOFFSETFROM:+0200
TZOFFSETTO:+0100
TZNAME:CET
DTSTART:20221030T010000
END:STANDARD
BEGIN:DAYLIGHT
TZOFFSETFROM:+0100
TZOFFSETTO:+0200
TZNAME:CEST
DTSTART:20230326T010000
END:DAYLIGHT
BEGIN:STANDARD
TZOFFSETFROM:+0200
TZOFFSETTO:+0100
TZNAME:CET
DTSTART:20231029T010000
END:STANDARD
BEGIN:DAYLIGHT
TZOFFSETFROM:+0100
TZOFFSETTO:+0200
TZNAME:CEST
DTSTART:20240331T010000
END:DAYLIGHT
BEGIN:STANDARD
TZOFFSETFROM:+0200
TZOFFSETTO:+0100
TZNAME:CET
DTSTART:20241027T010000
END:STANDARD
END:VTIMEZONE
BEGIN:VEVENT
DTSTART;TZID=Europe/Berlin:20230719T090000
DTEND;TZID=Europe/Berlin:20230719T110000
DTSTAMP:20260421T160722
CREATED:20230215T124743Z
LAST-MODIFIED:20230713T073309Z
UID:5056-1689757200-1689764400@bds-rlp.de
SUMMARY:ABSAGE!! BDS-Unternehmerfrühstück mit der BKK Pfalz in Ludwigshafen
DESCRIPTION:Leider müssen wir Ihnen mitteilen\, dass das Unternehmerfrühstück am 19. Juli bei der BKK Pfalz in Ludwigshafen verschoben werden muss. Die Veranstaltung wird am 8. November 2023 um 9 Uhr nachgeholt. \nIhr BDS Team
URL:https://bds-rlp.de/termin/bds-unternehmerfruehstueck-mit-der-bkk-pfalz-in-ludwigshafen/
LOCATION:BKK Pfalz\, Lichtenbergerstraße 16\, Ludwigshafen\, 67059\, Deutschland
CATEGORIES:Unternehmerfrühstück
ATTACH;FMTTYPE=image/jpeg:https://bds-rlp.de/wp-content/uploads/2023/02/event-ga946bfefb_1280.jpg
ORGANIZER;CN="Bund der Selbst%C3%A4ndigen Rheinland-Pfalz & Saarland e.V.":MAILTO:info@bds-rlp.de
END:VEVENT
END:VCALENDAR