BEGIN:VCALENDAR
VERSION:2.0
PRODID:-//Bund der Selbständigen - ECPv6.15.20//NONSGML v1.0//EN
CALSCALE:GREGORIAN
METHOD:PUBLISH
X-WR-CALNAME:Bund der Selbständigen
X-ORIGINAL-URL:https://bds-rlp.de
X-WR-CALDESC:Veranstaltungen für Bund der Selbständigen
REFRESH-INTERVAL;VALUE=DURATION:PT1H
X-Robots-Tag:noindex
X-PUBLISHED-TTL:PT1H
BEGIN:VTIMEZONE
TZID:Europe/Berlin
BEGIN:DAYLIGHT
TZOFFSETFROM:+0100
TZOFFSETTO:+0200
TZNAME:CEST
DTSTART:20220327T010000
END:DAYLIGHT
BEGIN:STANDARD
TZOFFSETFROM:+0200
TZOFFSETTO:+0100
TZNAME:CET
DTSTART:20221030T010000
END:STANDARD
BEGIN:DAYLIGHT
TZOFFSETFROM:+0100
TZOFFSETTO:+0200
TZNAME:CEST
DTSTART:20230326T010000
END:DAYLIGHT
BEGIN:STANDARD
TZOFFSETFROM:+0200
TZOFFSETTO:+0100
TZNAME:CET
DTSTART:20231029T010000
END:STANDARD
BEGIN:DAYLIGHT
TZOFFSETFROM:+0100
TZOFFSETTO:+0200
TZNAME:CEST
DTSTART:20240331T010000
END:DAYLIGHT
BEGIN:STANDARD
TZOFFSETFROM:+0200
TZOFFSETTO:+0100
TZNAME:CET
DTSTART:20241027T010000
END:STANDARD
END:VTIMEZONE
BEGIN:VEVENT
DTSTART;TZID=Europe/Berlin:20230621T000000
DTEND;TZID=Europe/Berlin:20230621T000000
DTSTAMP:20260422T070337
CREATED:20230417T093842Z
LAST-MODIFIED:20230620T080435Z
UID:5231-1687305600-1687305600@bds-rlp.de
SUMMARY:ABGESAGT: Veranstaltung über die betriebliche Krankenversicherung
DESCRIPTION:Leider müssen wir unsere Veranstaltung über die betriebliche Krankenversicherung\, zusammen mit dem BdS Römerberg-Speyer e.V. und der Debeka\, am 21. Juni kurzfristig absagen. \nWir werden dies aber im Herbst für Sie nachholen und werden Sie darüber rechtzeitig informieren. \nIhr BDS Team. \n 
URL:https://bds-rlp.de/termin/veranstaltung-ueber-die-betriebliche-krankenversicherung/
LOCATION:Zehnthaus Römerberg\, Berghäuser Str. 48\, Römerberg\, 67354
CATEGORIES:After-Work-Party,Vortrag
ATTACH;FMTTYPE=image/jpeg:https://bds-rlp.de/wp-content/uploads/2023/04/stethoscope-g752595a49_1920.jpg
ORGANIZER;CN="Bund der Selbst%C3%A4ndigen Rheinland-Pfalz & Saarland e.V.":MAILTO:info@bds-rlp.de
END:VEVENT
END:VCALENDAR