BEGIN:VCALENDAR
VERSION:2.0
PRODID:-//Bund der Selbständigen - ECPv6.15.20//NONSGML v1.0//EN
CALSCALE:GREGORIAN
METHOD:PUBLISH
X-ORIGINAL-URL:https://bds-rlp.de
X-WR-CALDESC:Veranstaltungen für Bund der Selbständigen
REFRESH-INTERVAL;VALUE=DURATION:PT1H
X-Robots-Tag:noindex
X-PUBLISHED-TTL:PT1H
BEGIN:VTIMEZONE
TZID:Europe/Berlin
BEGIN:DAYLIGHT
TZOFFSETFROM:+0100
TZOFFSETTO:+0200
TZNAME:CEST
DTSTART:20180325T010000
END:DAYLIGHT
BEGIN:STANDARD
TZOFFSETFROM:+0200
TZOFFSETTO:+0100
TZNAME:CET
DTSTART:20181028T010000
END:STANDARD
BEGIN:DAYLIGHT
TZOFFSETFROM:+0100
TZOFFSETTO:+0200
TZNAME:CEST
DTSTART:20190331T010000
END:DAYLIGHT
BEGIN:STANDARD
TZOFFSETFROM:+0200
TZOFFSETTO:+0100
TZNAME:CET
DTSTART:20191027T010000
END:STANDARD
BEGIN:DAYLIGHT
TZOFFSETFROM:+0100
TZOFFSETTO:+0200
TZNAME:CEST
DTSTART:20200329T010000
END:DAYLIGHT
BEGIN:STANDARD
TZOFFSETFROM:+0200
TZOFFSETTO:+0100
TZNAME:CET
DTSTART:20201025T010000
END:STANDARD
END:VTIMEZONE
BEGIN:VEVENT
DTSTART;TZID=Europe/Berlin:20190517T090000
DTEND;TZID=Europe/Berlin:20190517T110000
DTSTAMP:20260425T161924
CREATED:20190412T103609Z
LAST-MODIFIED:20190412T104358Z
UID:842-1558083600-1558090800@bds-rlp.de
SUMMARY:Unternehmerfrühstück des BdS Römerberg-Speyer e.V. in Speyer
DESCRIPTION:Am 17. Mai 2019 findet das Unternehmerfrühstück des Bund der Selbständigen Römerberg-Speyer e.V. in Speyer statt. Um 9 Uhr beginnen wir das Frühstück. Gastgeber ist die Rechtsanwaltskanzlei Alexis Brudermann. \nAlle Teilnehmer haben die Möglichkeit ihr Unternehmen vorzustellen. Auch Nichtmitglieder sind herzlich willkommen. Die Teilnahme ist kostenfrei. \nAls eingetragener Verein finanziert sich der Bund der Selbständigen Römerberg-Speyer e.V. aus den Beiträgen seiner Mitglieder. Gerne bieten wir Nichtmitgliedern die Möglichkeit drei Veranstaltungen des BDS zu besuchen\, um sich ein Bild von den Vorteilen einer Mitgliedschaft zu machen. Mit Ihrem Mitgliedsbeitrag von lediglich 10 Euro pro Monat investieren Sie in Ihr Netzwerk und stärken den BDS als Sprachrohr der Selbständigen. Sollten Sie sich nach drei Veranstaltungsbesuchen nicht für eine Mitgliedschaft entscheiden können\, ist im Anschluss nur noch die Teilnahme an bestimmten\, zahlungspflichtigen Veranstaltungen möglich. \nPacken Sie die Visitenkarten ein und kommen Sie am 17. Mai nach Speyer. Eine Anmeldung ist notwendig um unsere Planungen zu erleichtern. Anmelden können Sie sich per Telefon unter 06321/9375141 oder per E-Mail: info@bds-rlp.de
URL:https://bds-rlp.de/termin/unternehmerfruehstueck-des-bds-roemerberg-speyer-e-v-in-speyer/
LOCATION:Rechtsanwaltskanzlei Alexis Brudermann\,\, Bahnhofstraße 5\,\, Speyer\, 67346
CATEGORIES:Unternehmerfrühstück
END:VEVENT
END:VCALENDAR