BEGIN:VCALENDAR
VERSION:2.0
PRODID:-//Bund der Selbständigen - ECPv6.15.20//NONSGML v1.0//EN
CALSCALE:GREGORIAN
METHOD:PUBLISH
X-ORIGINAL-URL:https://bds-rlp.de
X-WR-CALDESC:Veranstaltungen für Bund der Selbständigen
REFRESH-INTERVAL;VALUE=DURATION:PT1H
X-Robots-Tag:noindex
X-PUBLISHED-TTL:PT1H
BEGIN:VTIMEZONE
TZID:Europe/Berlin
BEGIN:DAYLIGHT
TZOFFSETFROM:+0100
TZOFFSETTO:+0200
TZNAME:CEST
DTSTART:20190331T010000
END:DAYLIGHT
BEGIN:STANDARD
TZOFFSETFROM:+0200
TZOFFSETTO:+0100
TZNAME:CET
DTSTART:20191027T010000
END:STANDARD
BEGIN:DAYLIGHT
TZOFFSETFROM:+0100
TZOFFSETTO:+0200
TZNAME:CEST
DTSTART:20200329T010000
END:DAYLIGHT
BEGIN:STANDARD
TZOFFSETFROM:+0200
TZOFFSETTO:+0100
TZNAME:CET
DTSTART:20201025T010000
END:STANDARD
BEGIN:DAYLIGHT
TZOFFSETFROM:+0100
TZOFFSETTO:+0200
TZNAME:CEST
DTSTART:20210328T010000
END:DAYLIGHT
BEGIN:STANDARD
TZOFFSETFROM:+0200
TZOFFSETTO:+0100
TZNAME:CET
DTSTART:20211031T010000
END:STANDARD
END:VTIMEZONE
BEGIN:VEVENT
DTSTART;TZID=Europe/Berlin:20200909T170000
DTEND;TZID=Europe/Berlin:20200909T193000
DTSTAMP:20260422T160203
CREATED:20200714T142919Z
LAST-MODIFIED:20200831T095427Z
UID:2040-1599670800-1599679800@bds-rlp.de
SUMMARY:After-Work-Wandern mit der BKK Pfalz
DESCRIPTION:Am 09.09.2020 wollen wir zusammen mit der Gesundheitswanderführerin Anne Schlesinger von der BKK Pfalz (M.Sc. Sportwissenschaften\, Referentin für Gesundheitsförderung BKK Pfalz) nach der Arbeit ein Gesundheitswandern veranstalten. \nGesundheitswandern verbindet das Naturerlebnis Wandern mit ausgewählten Übungen für Koordination\, Kraft\, Ausdauer und Entspannung an schönen Plätzen im Freien. Sie setzen sich für Ihre Gesundheit ein und genießen gleichzeitig die Natur. Lassen Sie die Seele baumeln und haben Sie Spaß mit Gleichgesinnten. \nAnders als beim „normalen“ Wandern\, wird die Wanderung durch Pausen unterbrochen. In den Pausen werden Mobilisations-und Kräftigungsübungen für den Rücken durchgeführt\, Gesundheitswissen vermittelt und Entspannung und Beweglichkeit gefördert. \nGesundheitswandern bedeutet: \n• Behutsam die Ausdauer zu trainieren.\n• Beim Wandern den Alltag hinter sich zu lassen.\n• Einzelne Muskelpartien zu kräftigen.\n• Den eigenen Körper kennen zu lernen.\n• Tipps und Tricks für mehr Bewegung im täglichen Leben.\n• Erfahrungen austauschen mit Gleichgesinnten.\n• Sich selbst etwas Gutes tun.\n• Die Seele baumeln zu lassen.\n• Spaß haben und Lachen! \nTreffpunkt wird um 17 Uhr der Parkplatz Edenkobener Straße in 67487 St. Martin sein. Die Wanderung wird ca. 2-2\,5 Stunden dauern.\nBitte achten Sie auf festes Schuhwerk\, geeignete Kleidung und ausreichend Flüssigkeit. Bei Unwetter oder Starkregen wird die Wanderung kurzfristig abgesagt. Damit wir Sie rechtzeitig informieren können\, bitten wir Sie um die Angabe Ihrer Telefonnummer und E-Mail-Adresse. \nAnmeldung per Email unter info@bds-rlp.de ist notwendig.
URL:https://bds-rlp.de/termin/after-work-wandern-mit-der-bkk-pfalz-und-dem-bds-rheinland-pfalz-saarland-e-v/
LOCATION:Pfälzer Wald\, Parkplatz Edenkobener Straße\, 67487 St. Martin
CATEGORIES:After-Work-Wandern
ATTACH;FMTTYPE=image/jpeg:https://bds-rlp.de/wp-content/uploads/2020/07/wanderer-455338_1280.jpg
ORGANIZER;CN="Bund der Selbst%C3%A4ndigen Rheinland-Pfalz & Saarland e.V.":MAILTO:info@bds-rlp.de
END:VEVENT
END:VCALENDAR