BEGIN:VCALENDAR
VERSION:2.0
PRODID:-//Bund der Selbständigen - ECPv6.15.20//NONSGML v1.0//EN
CALSCALE:GREGORIAN
METHOD:PUBLISH
X-WR-CALNAME:Bund der Selbständigen
X-ORIGINAL-URL:https://bds-rlp.de
X-WR-CALDESC:Veranstaltungen für Bund der Selbständigen
REFRESH-INTERVAL;VALUE=DURATION:PT1H
X-Robots-Tag:noindex
X-PUBLISHED-TTL:PT1H
BEGIN:VTIMEZONE
TZID:Europe/Berlin
BEGIN:DAYLIGHT
TZOFFSETFROM:+0100
TZOFFSETTO:+0200
TZNAME:CEST
DTSTART:20220327T010000
END:DAYLIGHT
BEGIN:STANDARD
TZOFFSETFROM:+0200
TZOFFSETTO:+0100
TZNAME:CET
DTSTART:20221030T010000
END:STANDARD
BEGIN:DAYLIGHT
TZOFFSETFROM:+0100
TZOFFSETTO:+0200
TZNAME:CEST
DTSTART:20230326T010000
END:DAYLIGHT
BEGIN:STANDARD
TZOFFSETFROM:+0200
TZOFFSETTO:+0100
TZNAME:CET
DTSTART:20231029T010000
END:STANDARD
BEGIN:DAYLIGHT
TZOFFSETFROM:+0100
TZOFFSETTO:+0200
TZNAME:CEST
DTSTART:20240331T010000
END:DAYLIGHT
BEGIN:STANDARD
TZOFFSETFROM:+0200
TZOFFSETTO:+0100
TZNAME:CET
DTSTART:20241027T010000
END:STANDARD
END:VTIMEZONE
BEGIN:VEVENT
DTSTART;TZID=Europe/Berlin:20230614T000000
DTEND;TZID=Europe/Berlin:20230614T000000
DTSTAMP:20260420T074049
CREATED:20230131T144127Z
LAST-MODIFIED:20230612T122425Z
UID:5038-1686700800-1686700800@bds-rlp.de
SUMMARY:ABGESAGT: After-Work-Wandern mit der BKK Pfalz
DESCRIPTION:ACHTUNG\, leider müssen wir das Wandern mangels ausreichender Beteiligung am 14. Juni kurzfristig absagen und verschieben. Wir entschuldigen uns hierfür bei Ihnen und werden Ihnen den neuen Termin\, der voraussichtlich im Herbst stattfinden wird\, rechtzeitig bekannt geben. \nWir verweisen auf das kommende Unternehmerfrühstück am 15. Juni bei KOMOTA Solutions GmbH in Bad Dürkheim. \nIhr BDS-Team.
URL:https://bds-rlp.de/termin/after-work-wandern-mit-der-bkk-pfalz-3/
CATEGORIES:After-Work-Wandern
ATTACH;FMTTYPE=image/jpeg:https://bds-rlp.de/wp-content/uploads/2023/01/people-g31165a688_1280.jpg
ORGANIZER;CN="Bund der Selbst%C3%A4ndigen Rheinland-Pfalz & Saarland e.V.":MAILTO:info@bds-rlp.de
END:VEVENT
END:VCALENDAR