BEGIN:VCALENDAR
VERSION:2.0
PRODID:-//Bund der Selbständigen - ECPv6.15.20//NONSGML v1.0//EN
CALSCALE:GREGORIAN
METHOD:PUBLISH
X-WR-CALNAME:Bund der Selbständigen
X-ORIGINAL-URL:https://bds-rlp.de
X-WR-CALDESC:Veranstaltungen für Bund der Selbständigen
REFRESH-INTERVAL;VALUE=DURATION:PT1H
X-Robots-Tag:noindex
X-PUBLISHED-TTL:PT1H
BEGIN:VTIMEZONE
TZID:Europe/Berlin
BEGIN:DAYLIGHT
TZOFFSETFROM:+0100
TZOFFSETTO:+0200
TZNAME:CEST
DTSTART:20220327T010000
END:DAYLIGHT
BEGIN:STANDARD
TZOFFSETFROM:+0200
TZOFFSETTO:+0100
TZNAME:CET
DTSTART:20221030T010000
END:STANDARD
BEGIN:DAYLIGHT
TZOFFSETFROM:+0100
TZOFFSETTO:+0200
TZNAME:CEST
DTSTART:20230326T010000
END:DAYLIGHT
BEGIN:STANDARD
TZOFFSETFROM:+0200
TZOFFSETTO:+0100
TZNAME:CET
DTSTART:20231029T010000
END:STANDARD
BEGIN:DAYLIGHT
TZOFFSETFROM:+0100
TZOFFSETTO:+0200
TZNAME:CEST
DTSTART:20240331T010000
END:DAYLIGHT
BEGIN:STANDARD
TZOFFSETFROM:+0200
TZOFFSETTO:+0100
TZNAME:CET
DTSTART:20241027T010000
END:STANDARD
END:VTIMEZONE
BEGIN:VEVENT
DTSTART;TZID=Europe/Berlin:20230615T090000
DTEND;TZID=Europe/Berlin:20230615T110000
DTSTAMP:20260423T224419
CREATED:20230331T103646Z
LAST-MODIFIED:20230331T103646Z
UID:5194-1686819600-1686826800@bds-rlp.de
SUMMARY:BDS-Unternehmerfrühstück in Bad Dürkheim
DESCRIPTION:Der Bund der Selbständigen Rheinland-Pfalz und Saarland e.V. freut sich \nam 15. Juni 2023 ein Unternehmerfrühstück bei der KOMOTA Solutions GmbH anzubieten. \nVon 9 – 11 Uhr dürfen wir Sie in Bad Dürkheim begrüßen.\nGastgeber sind der BDS-Landesverband Rheinland-Pfalz & Saarland e.V. und die KOMOTA Solutions GmbH.\nAlle Teilnehmer haben die Möglichkeit ihr Unternehmen vorzustellen.\nPacken Sie die Visitenkarten ein und kommen Sie am 15. Juni 2023 zur KOMOTA Solutions GmbH nach Bad Dürkheim.\nEine VERBINDLICHE ANMELDUNG ist notwendig\, um unsere Planungen zu erleichtern. \nAnmelden können Sie sich per E-Mail beim BDS Rheinland-Pfalz & Saarland unter info@bds-rlp.de oder 06321/9375141.
URL:https://bds-rlp.de/termin/bds-unternehmerfruehstueck-in-bad-duerkheim/
LOCATION:KOMOTA Solutions GmbH\, Gustav-Kirchhoff-Straße 17\, Bad Dürkheim\, 67098
CATEGORIES:Unternehmerfrühstück
ATTACH;FMTTYPE=image/jpeg:https://bds-rlp.de/wp-content/uploads/2023/03/conference-gf013b801b_1920.jpg
ORGANIZER;CN="Bund der Selbst%C3%A4ndigen Rheinland-Pfalz & Saarland e.V.":MAILTO:info@bds-rlp.de
END:VEVENT
END:VCALENDAR