BEGIN:VCALENDAR
VERSION:2.0
PRODID:-//Bund der Selbständigen - ECPv6.15.20//NONSGML v1.0//EN
CALSCALE:GREGORIAN
METHOD:PUBLISH
X-ORIGINAL-URL:https://bds-rlp.de
X-WR-CALDESC:Veranstaltungen für Bund der Selbständigen
REFRESH-INTERVAL;VALUE=DURATION:PT1H
X-Robots-Tag:noindex
X-PUBLISHED-TTL:PT1H
BEGIN:VTIMEZONE
TZID:Europe/Berlin
BEGIN:DAYLIGHT
TZOFFSETFROM:+0100
TZOFFSETTO:+0200
TZNAME:CEST
DTSTART:20180325T010000
END:DAYLIGHT
BEGIN:STANDARD
TZOFFSETFROM:+0200
TZOFFSETTO:+0100
TZNAME:CET
DTSTART:20181028T010000
END:STANDARD
BEGIN:DAYLIGHT
TZOFFSETFROM:+0100
TZOFFSETTO:+0200
TZNAME:CEST
DTSTART:20190331T010000
END:DAYLIGHT
BEGIN:STANDARD
TZOFFSETFROM:+0200
TZOFFSETTO:+0100
TZNAME:CET
DTSTART:20191027T010000
END:STANDARD
BEGIN:DAYLIGHT
TZOFFSETFROM:+0100
TZOFFSETTO:+0200
TZNAME:CEST
DTSTART:20200329T010000
END:DAYLIGHT
BEGIN:STANDARD
TZOFFSETFROM:+0200
TZOFFSETTO:+0100
TZNAME:CET
DTSTART:20201025T010000
END:STANDARD
END:VTIMEZONE
BEGIN:VEVENT
DTSTART;TZID=Europe/Berlin:20190509T123000
DTEND;TZID=Europe/Berlin:20190509T140000
DTSTAMP:20260425T024140
CREATED:20190404T135639Z
LAST-MODIFIED:20190404T135639Z
UID:605-1557405000-1557410400@bds-rlp.de
SUMMARY:Business Lunch des BDS OV Neustadt & Südliche Weinstraße
DESCRIPTION:Der Ortsverband des Bund der Selbständigen (BDS) Neustadt und Südliche Weinstraße e.V. veranstaltet am Donnerstag\, 09. Mai 2019 ab 12.30 Uhr\, seinen Business Lunch im OSCAR´S Restaurant im Cineplex Neustadt. \nAlle Teilnehmer haben die Möglichkeit ihr Unternehmen vorzustellen. Auch Nichtmitglieder sind herzlich willkommen. Getränke und Essen sind von den Teilnehmern selbst zu bezahlen. \nAls eingetragener Verein finanziert sich der Bund der Selbständigen aus den Beiträgen seiner Mitglieder. Gerne bieten wir Nichtmitgliedern die Möglichkeit drei Veranstaltungen des BDS zu besuchen\, um sich ein Bild von den Vorteilen einer Mitgliedschaft zu machen. Mit Ihrem Mitgliedsbeitrag von lediglich 10 Euro pro Monat investieren Sie in Ihr Netzwerk und stärken den BDS als Sprachrohr der Selbständigen. Sollten Sie sich nach drei Veranstaltungsbesuchen nicht für eine Mitgliedschaft entscheiden können\, ist im Anschluss nur noch die Teilnahme an bestimmten\, zahlungspflichtigen Veranstaltungen möglich. \nAnmeldungen nimmt der und der BDS Neustadt und Südliche Weinstraße e.V. unter kontakt@bds-nw-sw.de entgegen.
URL:https://bds-rlp.de/termin/business-lunch-des-bds-ov-neustadt-suedliche-weinstrasse/
LOCATION:OSCAR´S Restaurant\, Louis-Escande-Straße 32\, 67433 Neustadt an der Weinstraße\, Deutschland
ORGANIZER;CN="Bund der Selbst%C3%A4ndigen Neustadt und S%C3%BCdliche Weinstra%C3%9Fe e.V.":MAILTO:kontakt@bds-nw-sw.de
END:VEVENT
BEGIN:VEVENT
DTSTART;TZID=Europe/Berlin:20190515T180000
DTEND;TZID=Europe/Berlin:20190515T213000
DTSTAMP:20260425T024140
CREATED:20190412T103927Z
LAST-MODIFIED:20190412T104338Z
UID:846-1557943200-1557955800@bds-rlp.de
SUMMARY:BDS After-Work-Party in Neustadt
DESCRIPTION:„Time to say goodbye“ heißt es am 15. Mai 2019\, denn der Bund der Selbständigen Rheinland-Pfalz & Saarland e.V. lädt zur letzten After Work Party auf der Dachterasse der Geschäftsstelle ein. Im Laufe des Jahres wird die Geschäftsstelle in neue Räumlichkeiten in Neustadt umziehen. Kommen Sie also zur After Work Party über den Dächern Neustadts\, knüpfen Sie noch einmal neue Geschäftskontakte und tauschen Sie sich mit anderen Selbständigen aus. \nNeben Getränken wird es auch wieder Würstchen vom Grill geben. Um unsere Planungen zu erleichtern ist eine Anmeldung notwendig. Die Teilnahme ist kostenfrei. Anmelden können Sie sich per Telefon unter 06321/9375141 oder per E-Mail: info@bds-rlp.de
URL:https://bds-rlp.de/termin/bds-after-work-party-in-neustadt/
LOCATION:BDS Geschäftsstelle\, Lindenstraße 9-11\, Neustadt\, 67433
CATEGORIES:After-Work-Party
ORGANIZER;CN="Bund der Selbst%C3%A4ndigen Rheinland-Pfalz & Saarland e.V.":MAILTO:info@bds-rlp.de
END:VEVENT
BEGIN:VEVENT
DTSTART;TZID=Europe/Berlin:20190517T090000
DTEND;TZID=Europe/Berlin:20190517T110000
DTSTAMP:20260425T024140
CREATED:20190412T103609Z
LAST-MODIFIED:20190412T104358Z
UID:842-1558083600-1558090800@bds-rlp.de
SUMMARY:Unternehmerfrühstück des BdS Römerberg-Speyer e.V. in Speyer
DESCRIPTION:Am 17. Mai 2019 findet das Unternehmerfrühstück des Bund der Selbständigen Römerberg-Speyer e.V. in Speyer statt. Um 9 Uhr beginnen wir das Frühstück. Gastgeber ist die Rechtsanwaltskanzlei Alexis Brudermann. \nAlle Teilnehmer haben die Möglichkeit ihr Unternehmen vorzustellen. Auch Nichtmitglieder sind herzlich willkommen. Die Teilnahme ist kostenfrei. \nAls eingetragener Verein finanziert sich der Bund der Selbständigen Römerberg-Speyer e.V. aus den Beiträgen seiner Mitglieder. Gerne bieten wir Nichtmitgliedern die Möglichkeit drei Veranstaltungen des BDS zu besuchen\, um sich ein Bild von den Vorteilen einer Mitgliedschaft zu machen. Mit Ihrem Mitgliedsbeitrag von lediglich 10 Euro pro Monat investieren Sie in Ihr Netzwerk und stärken den BDS als Sprachrohr der Selbständigen. Sollten Sie sich nach drei Veranstaltungsbesuchen nicht für eine Mitgliedschaft entscheiden können\, ist im Anschluss nur noch die Teilnahme an bestimmten\, zahlungspflichtigen Veranstaltungen möglich. \nPacken Sie die Visitenkarten ein und kommen Sie am 17. Mai nach Speyer. Eine Anmeldung ist notwendig um unsere Planungen zu erleichtern. Anmelden können Sie sich per Telefon unter 06321/9375141 oder per E-Mail: info@bds-rlp.de
URL:https://bds-rlp.de/termin/unternehmerfruehstueck-des-bds-roemerberg-speyer-e-v-in-speyer/
LOCATION:Rechtsanwaltskanzlei Alexis Brudermann\,\, Bahnhofstraße 5\,\, Speyer\, 67346
CATEGORIES:Unternehmerfrühstück
END:VEVENT
END:VCALENDAR