BEGIN:VCALENDAR
VERSION:2.0
PRODID:-//Bund der Selbständigen - ECPv6.15.20//NONSGML v1.0//EN
CALSCALE:GREGORIAN
METHOD:PUBLISH
X-ORIGINAL-URL:https://bds-rlp.de
X-WR-CALDESC:Veranstaltungen für Bund der Selbständigen
REFRESH-INTERVAL;VALUE=DURATION:PT1H
X-Robots-Tag:noindex
X-PUBLISHED-TTL:PT1H
BEGIN:VTIMEZONE
TZID:Europe/Berlin
BEGIN:DAYLIGHT
TZOFFSETFROM:+0100
TZOFFSETTO:+0200
TZNAME:CEST
DTSTART:20180325T010000
END:DAYLIGHT
BEGIN:STANDARD
TZOFFSETFROM:+0200
TZOFFSETTO:+0100
TZNAME:CET
DTSTART:20181028T010000
END:STANDARD
BEGIN:DAYLIGHT
TZOFFSETFROM:+0100
TZOFFSETTO:+0200
TZNAME:CEST
DTSTART:20190331T010000
END:DAYLIGHT
BEGIN:STANDARD
TZOFFSETFROM:+0200
TZOFFSETTO:+0100
TZNAME:CET
DTSTART:20191027T010000
END:STANDARD
BEGIN:DAYLIGHT
TZOFFSETFROM:+0100
TZOFFSETTO:+0200
TZNAME:CEST
DTSTART:20200329T010000
END:DAYLIGHT
BEGIN:STANDARD
TZOFFSETFROM:+0200
TZOFFSETTO:+0100
TZNAME:CET
DTSTART:20201025T010000
END:STANDARD
END:VTIMEZONE
BEGIN:VEVENT
DTSTART;TZID=Europe/Berlin:20190627T090000
DTEND;TZID=Europe/Berlin:20190627T110000
DTSTAMP:20260425T012228
CREATED:20190531T102352Z
LAST-MODIFIED:20190531T102600Z
UID:1022-1561626000-1561633200@bds-rlp.de
SUMMARY:BDS Unternehmerfrühstück in Kirchheimbolanden
DESCRIPTION:Am 27. Juni findet das Unternehmerfrühstück des Bund der Selbständigen in Kirchheimbolanden statt. Um 9 Uhr beginnen wir das Frühstück. Gastgeber sind Manuela Baldauf vom Büro für Deutsche Vermögensberatung in Morschheim sowie das Parkhotel Schillerhain. \nAlle Teilnehmer haben die Möglichkeit ihr Unternehmen vorzustellen. Auch Nichtmitglieder sind herzlich willkommen. Pro Teilnehmer wird ein Unkostenbeitrag von 8 Euro erhoben. \nAls eingetragener Verein finanziert sich der Bund der Selbständigen Rheinland-Pfalz & Saarland e.V. aus den Beiträgen seiner Mitglieder. Gerne bieten wir Nichtmitgliedern die Möglichkeit drei Veranstaltungen des BDS zu besuchen\, um sich ein Bild von den Vorteilen einer Mitgliedschaft zu machen. Mit Ihrem Mitgliedsbeitrag von lediglich 10 Euro pro Monat investieren Sie in Ihr Netzwerk und stärken den BDS als Sprachrohr der Selbständigen. Sollten Sie sich nach drei Veranstaltungsbesuchen nicht für eine Mitgliedschaft entscheiden können\, ist im Anschluss nur noch die Teilnahme an bestimmten\, zahlungspflichtigen Veranstaltungen möglich. \nPacken Sie die Visitenkarten ein und kommen Sie am 27. Juni nach Kirchheimbolanden. Eine Anmeldung ist notwendig um unsere Planungen zu erleichtern. Anmelden können Sie sich per Telefon unter 06321/9375141 oder per E-Mail: info@bds-rlp.de
URL:https://bds-rlp.de/termin/bds-unternehmerfruehstueck-in-kirchheimbolanden-2/
LOCATION:Parkhotel Schillerhain\, Schillerhain 1\, 67292 Kirchheimbolanden
CATEGORIES:Unternehmerfrühstück
END:VEVENT
END:VCALENDAR