BEGIN:VCALENDAR
VERSION:2.0
PRODID:-//Bund der Selbständigen - ECPv6.15.20//NONSGML v1.0//EN
CALSCALE:GREGORIAN
METHOD:PUBLISH
X-WR-CALNAME:Bund der Selbständigen
X-ORIGINAL-URL:https://bds-rlp.de
X-WR-CALDESC:Veranstaltungen für Bund der Selbständigen
REFRESH-INTERVAL;VALUE=DURATION:PT1H
X-Robots-Tag:noindex
X-PUBLISHED-TTL:PT1H
BEGIN:VTIMEZONE
TZID:Europe/Berlin
BEGIN:DAYLIGHT
TZOFFSETFROM:+0100
TZOFFSETTO:+0200
TZNAME:CEST
DTSTART:20180325T010000
END:DAYLIGHT
BEGIN:STANDARD
TZOFFSETFROM:+0200
TZOFFSETTO:+0100
TZNAME:CET
DTSTART:20181028T010000
END:STANDARD
BEGIN:DAYLIGHT
TZOFFSETFROM:+0100
TZOFFSETTO:+0200
TZNAME:CEST
DTSTART:20190331T010000
END:DAYLIGHT
BEGIN:STANDARD
TZOFFSETFROM:+0200
TZOFFSETTO:+0100
TZNAME:CET
DTSTART:20191027T010000
END:STANDARD
BEGIN:DAYLIGHT
TZOFFSETFROM:+0100
TZOFFSETTO:+0200
TZNAME:CEST
DTSTART:20200329T010000
END:DAYLIGHT
BEGIN:STANDARD
TZOFFSETFROM:+0200
TZOFFSETTO:+0100
TZNAME:CET
DTSTART:20201025T010000
END:STANDARD
END:VTIMEZONE
BEGIN:VEVENT
DTSTART;TZID=Europe/Berlin:20191010T123000
DTEND;TZID=Europe/Berlin:20191010T140000
DTSTAMP:20260424T191159
CREATED:20190925T104033Z
LAST-MODIFIED:20190930T110036Z
UID:1227-1570710600-1570716000@bds-rlp.de
SUMMARY:Business Lunch des BDS OV Neustadt und Südliche Weinstraße e.V.
DESCRIPTION:Der Bund der Selbständigen Neustadt und Südliche Weinstraße e.V. lädt am Donnerstag\, den 10. Oktober 2019 ab 12:30 Uhr herzlich zum Business Lunch im OSCAR´S (im Cineplex Neustadt)\, Louis-Escande-Straße 32 in Neustadt ein. \nBeim Business Lunch treffen sich die Selbständigen aus der Region: \n• zum informellen Austausch zwischen Selbstständigen\n• zum Netzwerken und Kontakte knüpfen\n• zum informativen Beisammensein\n• zu spannenden Vorträgen\n• zum Kennenlernen und Mitgestalten der Arbeit des BDS \nDieses Mal findet im Rahmen des Business Lunch der spannende Vortrag „Business in der Wolke”\, Referentin: Julia Hofmann (MAKE IT CLEAR) statt.\nPrivat und im Beruf: Die Begriffe „Cloud“\, „Cloud-Computing“ oder „Cloud-Service“ begegnen uns immer häufiger. Haben Sie sich schon einmal gefragt\, was der Begriff „Cloud-Services“ eigentlich bedeutet? Welche Vorteile daraus womöglich im Business erwachsen? In spannenden 15 Minuten wird BdS-Mitglied Julia Hofmann hierzu einen Überblick geben und erklären warum Services in der Cloud weit über Speicherlösungen und E-Mail-Dienste hinausgehen. \nDie Teilnahme ist unverbindlich und kostenlos\, alle Besucher kommen für Essen und Getränke selber auf. Mehr Informationen zum BDS Neustadt und Südliche Weinstraße sowie Kontaktmöglichkeiten finden Sie unter https://bds-nw-sw.de/
URL:https://bds-rlp.de/termin/business-lunch-des-bds-ov-neustadt-und-suedliche-weinstrasse-e-v-3/
LOCATION:OSCAR´S Restaurant\, Louis-Escande-Straße 32\, 67433 Neustadt an der Weinstraße\, Deutschland
CATEGORIES:Business Lunch
END:VEVENT
END:VCALENDAR