BEGIN:VCALENDAR
VERSION:2.0
PRODID:-//Bund der Selbständigen - ECPv6.15.20//NONSGML v1.0//EN
CALSCALE:GREGORIAN
METHOD:PUBLISH
X-WR-CALNAME:Bund der Selbständigen
X-ORIGINAL-URL:https://bds-rlp.de
X-WR-CALDESC:Veranstaltungen für Bund der Selbständigen
REFRESH-INTERVAL;VALUE=DURATION:PT1H
X-Robots-Tag:noindex
X-PUBLISHED-TTL:PT1H
BEGIN:VTIMEZONE
TZID:Europe/Berlin
BEGIN:DAYLIGHT
TZOFFSETFROM:+0100
TZOFFSETTO:+0200
TZNAME:CEST
DTSTART:20190331T010000
END:DAYLIGHT
BEGIN:STANDARD
TZOFFSETFROM:+0200
TZOFFSETTO:+0100
TZNAME:CET
DTSTART:20191027T010000
END:STANDARD
BEGIN:DAYLIGHT
TZOFFSETFROM:+0100
TZOFFSETTO:+0200
TZNAME:CEST
DTSTART:20200329T010000
END:DAYLIGHT
BEGIN:STANDARD
TZOFFSETFROM:+0200
TZOFFSETTO:+0100
TZNAME:CET
DTSTART:20201025T010000
END:STANDARD
BEGIN:DAYLIGHT
TZOFFSETFROM:+0100
TZOFFSETTO:+0200
TZNAME:CEST
DTSTART:20210328T010000
END:DAYLIGHT
BEGIN:STANDARD
TZOFFSETFROM:+0200
TZOFFSETTO:+0100
TZNAME:CET
DTSTART:20211031T010000
END:STANDARD
END:VTIMEZONE
BEGIN:VEVENT
DTSTART;TZID=Europe/Berlin:20200820T090000
DTEND;TZID=Europe/Berlin:20200820T110000
DTSTAMP:20260424T024839
CREATED:20200714T131046Z
LAST-MODIFIED:20200714T151601Z
UID:2023-1597914000-1597921200@bds-rlp.de
SUMMARY:BDS-Unternehmerfrühstück in Lambrecht
DESCRIPTION:Wir freuen uns sehr am 20. August 2020 ein Unternehmerfrühstück des Bundes der Selbständigen in Lambrecht ankündigen zu dürfen. Um 9 Uhr beginnen wir das Frühstück. Gastgeber sind der BDS-Ortsverband Lambrecht und der BDS-Landesverband Rheinland-Pfalz & Saarland e.V. \nAlle Teilnehmer haben die Möglichkeit ihr Unternehmen vorzustellen. Auch Nichtmitglieder sind herzlich willkommen. \nAls eingetragener Verein finanziert sich der Bund der Selbständigen Rheinland-Pfalz & Saarland e.V. aus den Beiträgen seiner Mitglieder. Gerne bieten wir Nichtmitgliedern die Möglichkeit drei Veranstaltungen des BDS zu besuchen\, um sich ein Bild von den Vorteilen einer Mitgliedschaft zu machen. Mit Ihrem Mitgliedsbeitrag von lediglich 10 Euro pro Monat investieren Sie in Ihr Netzwerk und stärken den BDS als Sprachrohr der Selbständigen. Sollten Sie sich nach drei Veranstaltungsbesuchen nicht für eine Mitgliedschaft entscheiden können\, ist im Anschluss nur noch die Teilnahme an bestimmten\, zahlungspflichtigen Veranstaltungen möglich. \nPacken Sie die Visitenkarten ein und kommen Sie am 20. August 2020 nach Lambrecht. Eine verbindliche Anmeldung ist notwendig\, um unsere Planungen zu erleichtern. Corona-bedingt müssen wir die Teilnehmerzahl begrenzen. Anmelden können Sie sich per E-Mail beim BDS Rheinland-Pfalz & Saarland unter info@bds-rlp.de
URL:https://bds-rlp.de/termin/bds-unternehmerfruehstueck-in-lambrecht/
LOCATION:Stadtcafé Lambrecht\, Hauptstr. 63\, 67466 Lambrecht
CATEGORIES:Unternehmerfrühstück
ORGANIZER;CN="Bund der Selbst%C3%A4ndigen Rheinland-Pfalz & Saarland e.V.":MAILTO:info@bds-rlp.de
END:VEVENT
END:VCALENDAR