BEGIN:VCALENDAR
VERSION:2.0
PRODID:-//Bund der Selbständigen - ECPv6.15.20//NONSGML v1.0//EN
CALSCALE:GREGORIAN
METHOD:PUBLISH
X-ORIGINAL-URL:https://bds-rlp.de
X-WR-CALDESC:Veranstaltungen für Bund der Selbständigen
REFRESH-INTERVAL;VALUE=DURATION:PT1H
X-Robots-Tag:noindex
X-PUBLISHED-TTL:PT1H
BEGIN:VTIMEZONE
TZID:Europe/Berlin
BEGIN:DAYLIGHT
TZOFFSETFROM:+0100
TZOFFSETTO:+0200
TZNAME:CEST
DTSTART:20220327T010000
END:DAYLIGHT
BEGIN:STANDARD
TZOFFSETFROM:+0200
TZOFFSETTO:+0100
TZNAME:CET
DTSTART:20221030T010000
END:STANDARD
BEGIN:DAYLIGHT
TZOFFSETFROM:+0100
TZOFFSETTO:+0200
TZNAME:CEST
DTSTART:20230326T010000
END:DAYLIGHT
BEGIN:STANDARD
TZOFFSETFROM:+0200
TZOFFSETTO:+0100
TZNAME:CET
DTSTART:20231029T010000
END:STANDARD
BEGIN:DAYLIGHT
TZOFFSETFROM:+0100
TZOFFSETTO:+0200
TZNAME:CEST
DTSTART:20240331T010000
END:DAYLIGHT
BEGIN:STANDARD
TZOFFSETFROM:+0200
TZOFFSETTO:+0100
TZNAME:CET
DTSTART:20241027T010000
END:STANDARD
END:VTIMEZONE
BEGIN:VEVENT
DTSTART;TZID=Europe/Berlin:20230120T190000
DTEND;TZID=Europe/Berlin:20230120T223000
DTSTAMP:20260420T185435
CREATED:20221130T104810Z
LAST-MODIFIED:20221130T110519Z
UID:4864-1674241200-1674253800@bds-rlp.de
SUMMARY:Neujahrsempfang des BDS am 20. Januar 2023
DESCRIPTION:Wir möchten Sie herzlich zu unserem Neujahrsempfang am 20. Januar einladen und freuen uns Sie dazu im Restaurant des Panorama Hotels am Rosengarten (Mußbacher Landstraße 2) in Neustadt an der Weinstraße begrüßen zu dürfen. Beginn wird um 19 Uhr sein.\nEine verbindliche Anmeldung nehmen wir gerne unter info@bds-rlp.de oder telefonisch unter 06321/9375141 entgegen. \n \n 
URL:https://bds-rlp.de/termin/neujahrsempfang-des-bds-am-20-januar-2023/
LOCATION:Restaurant des Panorama Hotels am Rosengarten\, Mußbacher Landstraße 2\, Neustadt an der Weinstraße\, 67433
CATEGORIES:Neujahrsempfang
ATTACH;FMTTYPE=image/png:https://bds-rlp.de/wp-content/uploads/2022/11/year-7581157_1280.png
ORGANIZER;CN="Bund der Selbst%C3%A4ndigen Rheinland-Pfalz & Saarland e.V.":MAILTO:info@bds-rlp.de
END:VEVENT
END:VCALENDAR